BEGIN:VCALENDAR
PRODID:-//Det Danske Spejderkorps//NONSGML Gruppeweb//EN
VERSION:2.0
CALSCALE:GREGORIAN
X-PUBLISHED-TTL:PT1H
X-WR-CALNAME:Mini i Thorolf Gruppe
METHOD:PUBLISH
BEGIN:VEVENT
UID:gruppeweb.dk:2115:event:1274
DTSTAMP:20260423T110849Z
LAST-MODIFIED:20250331T191917Z
SUMMARY:Pandaløb minispejder
DESCRIPTION:Kom med til Pandaløb hvor vi dyster mod andre minispejder i Am
 ager division  \nSøndag 27 april.\n\nVi ses kl 9.30 ved indgangen til Kas
 trupfortet fra Svend Vonveds vej (tæt  \npå spejderhytten hvor vi overna
 ttede). Afhentning ca 15.30 samme sted. Hvis  \nvi ikke er færdige (nogle
  gange trækker prisceremonien ud) så bare vent  \nved indgangen.\n\nPakn
 ing: Madpakke og drikkedunk\, pakket i rygsæk så spejderen selv kan  \nb
 ære det hele dagen. Tøj og sko efter vejr. Vi er ude hele dagen\, uanset
   \nvejr så sørg for at spejderen har tøj til at holde sig tør og varm
 .\n\nHusk uniform og spejdertørklæde.\n\nVi glæder os til at vise de an
 dre grupper i Amager division alt det vi har  \nlært om førstehjælp\, k
 nob madlavning mv.\n\nObs! Sidste tilmeldningsdag er 8 april\n\nThomas\, M
 ads og Jakob\n\n
URL:https://www.thorolf.dk/begivenhed/pandaloeb-minispejder
DTSTART:20250427T073000Z
DTEND:20250427T133000Z
LOCATION:Kastrupfortet\, Svend Vonveds Vej 17\, 2300 København S
END:VEVENT
BEGIN:VEVENT
UID:gruppeweb.dk:2115:event:1282
DTSTAMP:20260423T110849Z
LAST-MODIFIED:20250410T194128Z
SUMMARY:Divisionsturnering Mini
DESCRIPTION:.... 🌟 Tilmelding til Divisionsturnering for Minispejder 202
 5\n\nSå nærmer vi os *divisionsturneringen*! En hel weekend fyldt med le
 g\, sjove  \nspejderaktiviteter\, bål og masser af hygge med spejdere fra
  hele divisionen.  \nDivisionsturneringen er for alle spejdergrene\, så d
 er kommer både Thorolfs  \negne mikro\, mini\, junior og tropspejder samt
  fra andre spejdergrupper på  \nAmager.\n\n*📅 Hvornår:*\nFra *fredag 
 d. 16. maj* til *søndag d. 18. maj 2025*\n\n*🚌 Transport:*\n\n * *Afga
 ng:* Fredag d. 16. maj vi mødes kl. *17:30* på *Tårnby Station*\n   \
 n * Vi kører samlet i *bus til Høbjerghus*\n   \n * *Hjemkomst:* Søndag
  d. 18. maj ca. kl. *15:00*\, også ved *Tårnby\n   Station*\n   \n\n*
 🎒 Hvad skal man have med?*\n\n * En god rygsæk pakket med weekendgrej 
 (tøj\, sovepose\, liggeunderlag\,\n   regntøj\, madgrej osv.)\n   \n * S
 pejderuniform og tørklæde\n   \n * *Madpakke til fredag aften*\n   \n * 
 Drikkedunk\n   \n * Et kæmpe smil og lyst til eventyr!\n   \n * Komplett 
 pakkeliste for en weekend finder du her [1].\n   \n\n✅ *Husk*\n\n * Vi s
 over i telt\, så sørg for at spejderen har noget varmt at sove i.\n   \n
  * Vi er ude hele weekenden så tøj og sko efter vejr. Pak gerne en ekstr
 a\n   trøje og overtøj der kan tåle regn.\n   \n * Vi spiser først mad
 pakken når vi kommer frem\, så sørg for at spejderen\n   har spist noge
 t før vi tager afsted\n   \n\nVi glæder os til en *sjov\, tryg og uforgl
 emmelig weekend* i spejdernes tegn  \n– og vi håber selvfølgelig\, *du
  skal med!*\n\n\n[1] https://www.thorolf.dk/files/2019-09/Pakkeliste - gen
 erel - til en weekend.pdf\n
URL:https://www.thorolf.dk/begivenhed/divisionsturnering-mini
DTSTART:20250516T153000Z
DTEND:20250518T130000Z
LOCATION:Høbjerghus\, Høbjerhegn\, 3200 helsinge
END:VEVENT
BEGIN:VEVENT
UID:gruppeweb.dk:2115:event:1241
DTSTAMP:20260423T110849Z
LAST-MODIFIED:20260212T132820Z
SUMMARY:Mini sommerlejr - forhåndstilmeldning
DESCRIPTION:Dette er forhåndsilmeldning til mini sommerlejr 2025.\n\nVi re
 gner med 3 nætter i start uge 31\, men de exakte dato kan ændres en dag 
  \nfrem eller tilbage.\n\nVi regner med at overnatte i tælt\, tæt på K
 øbenhavn (altså ikke på  \nvores egen grund). Det er kun minispejder de
 r tager med på turen\, så vi  \nfår brug for hjælp fra forældre med l
 ogistik og muligvis også under selve  \nlejren.\n\nSommerlejr er ikke gra
 tis (alle andre turer indgår i kontingent) men er  \nsubventioneret fra g
 ruppen så vi kan holde priset nede.\n\nDet her er kun  forhåndstilmeldn
 ing for at vi ska kunne se hvor stort  \ninteressen er så vi kan planlæg
 ge turen efter det. Tilmeldning er ikke  \nbindende.\n\n
URL:https://www.thorolf.dk/begivenhed/mini-sommerlejr-forhaandstilmeldning
DTSTART:20250728T080000Z
DTEND:20250731T130000Z
LOCATION:Thorolf - spejderne på Islands Brygge\, Artillerivej 67\, 2300 K
 øbenhavn S
END:VEVENT
BEGIN:VEVENT
UID:gruppeweb.dk:2115:event:1286
DTSTAMP:20260423T110849Z
LAST-MODIFIED:20250715T192449Z
SUMMARY:🌞 Tag med på årets fedeste sommerlejr! 🏕️ - mikro og mini
DESCRIPTION:Kalder alle mikroer og minier\n\n\n\nEr du klar på fire\ndage 
 fyldt med sjov\, venskaber\, lejrbål og eventyr? Så skal du med på  \n*
 mikroerne\nog miniernes sommerlejr* fra *mandag d. 28. juli til torsdag d.
  31. juli*!\nVi tager til *Reden ved Fredensborg*\, hvor vi skal sove unde
 r åben himmel\n— i *telt\, shelter og bivuak* – og vågne op til fugl
 efløjt og duften af\nlejrbål.\n\n\n\nDer bliver:\n\n\n\n·      \n
 *Vandreture\ni skoven* og masser af natur\n🍃\n\n\n\n·      \nMad
 \nover bål 🔥\n\n\n\n·      \nSamarbejdslege\nog mysterier at l
 øse 🤿\n\n\n\n·      \nMasser\naf grin og venskaber 💪\n\n\n\n
 🎒 *Mikro og mini\ntager af sted sammen*\, så der er garanti for hygge 
 på tværs af  \naldersgrupper\n– og nye venskaber! *Måske får vi endd
 a besøg af familiespejderne*\, så\nlejren summer af liv.\n\n\n\n👉 *Pr
 isen er: 520 kr. *\n\n\n\n\nSå pak rygsækken\, find dit bedste spejdersm
 il frem\, og gør dig klar til\nsommerens vildeste oplevelse!\n\n\n\n
URL:https://www.thorolf.dk/begivenhed/tag-med-paa-aarets-fedeste-sommerlejr
 -mikro-og-mini
DTSTART:20250728T195500Z
DTEND:20250731T195500Z
LOCATION:Reden Reden\, Hillerødvejen 8\, 3480 Frednsborg
END:VEVENT
BEGIN:VEVENT
UID:gruppeweb.dk:2115:event:1300
DTSTAMP:20260423T110849Z
LAST-MODIFIED:20260212T132626Z
SUMMARY:Kom med på årets MUS-lejr – 19.-21. september
DESCRIPTION:\nAlle aktiviteter er arrangeret af Egemose Centrets dygtige te
 am – så vi  \nskal bare nyde weekenden sammen med andre spejdere. Det b
 liver en tur fyldt  \nmed leg\, fællesskab og oplevelser.\n\n\n\n.... *Pr
 aktisk information*\n\n\n\n\n\n\n * *Aflevering\;* Fredag *19. september*
  kl. 16.00 i *spejderhytten.*\n   \n\n * *Hentning: *Søndag *21. septembe
 r* kl. 13.00\, Egemose Centret\,\n   Egemosevej 9\, 3660 Ganløse Stenlø
 se\n   \n\nVi får brug for hjælp med transport af spejder og grej til og
  fra centret\,  \nså meld ind om I kan køre.\n\n * *Overnatning: *Vi sov
 er i tælt\n   \n * *Mad: *Husk madpakke til fredag aften. Al anden mad bl
 iver serverat af\n   centrets personale\n   \n * *Pakke: *Oppakning til en
  weekend + madpakke (se Thorolfs pakkeliste\n   [1] )\n   \n * *Biks: *Eg
 emosecentret har en slik-biks som kommer til at være åben\, så\n   husk
  kontanter (max 50 kr)\n   \n\nOmkostning for turen indgår i kontingenten
 .\n\nLad gerne spejdern selv pakke sin rygsæk\, så har de bedre styr på
  hvad de  \nhar med\, og hvor.\n\nHusk at vi er udenfor\, uanset vejr. Og 
 stol ikke på appens vejrudsikt\, var  \naltid beredt på øsregn.\n\nKun 
 dem som har knivmærke må tage egen dolk med.\n\n\n\n[1] https://www.thor
 olf.dk/files/2019-09/Pakkeliste - generel - til en weekend.pdf\n
URL:https://www.thorolf.dk/begivenhed/kom-med-paa-aarets-mus-lejr-19-21-sep
 tember
DTSTART:20250919T140000Z
DTEND:20250921T110000Z
LOCATION:Egemosecentret\, Egemosevej 9\, 3660 Ganløse
END:VEVENT
BEGIN:VEVENT
UID:gruppeweb.dk:2115:event:1315
DTSTAMP:20260423T110849Z
LAST-MODIFIED:20250917T185651Z
SUMMARY:Thorolf Gruppetur 2025
DESCRIPTION:Kære spejdere\, \n\nNu er det tid til årets hyggeligste tur 
 med Thorolf - nemlig vores  \ngruppetur! På gruppeturen er vi afsted samm
 en hele gruppen - fra  \nfamiliespejd til trop - og vi laver spejderaktivi
 teter\, løb\, lejrbål og  \nhygger os sammen hele weekenden på tværs a
 f grenene. Det er en megafed tur\,  \nog lige meget om du har været spejd
 er i Thorolf i lang tid\, eller om du lige  \ner startet i gruppen\, er de
 t en god mulighed for at komme afsted sammen og  \nlære nogle af de andre
  mange spejdere fra de andre grene at kende.  \n\nIgen i år tager vi ti
 l spejdercenteret Gurredam udenfor Helsingør -  \nGurrevej 322\, 3000 Hel
 singør.\n\nLidt praktisk: \n\n *  Turen starter fredag d. 7.11 hvor der
  er tjek-in for grenene på\n   Gurredam mellem kl. 18-19 ca. Vi slutter s
 øndag d. 9.11 kl. 13 på\n   Gurredam med en fælles afslutning for alle 
 spejdere\, forældre\, søskende\n   osv. Kom og vær med! \n   \n *  Tr
 ansport:  De enkelte grene er selv ansvarlige for at arrangere deres\n   
 transport til og fra Gurredam. Du hører nærmere fra din grenleder om\n  
  hvor I mødes fredag - måske kan du hjælpe med at køre nogle spejdere\
 n   derop? \n   \n * Oppakning: Du skal medbringe tøj og grej til en wee
 kend med overnatning i\n   hytten. Dvs. varmt tøj\, regntøj\, støvler m
 v. Vi er udenfor det meste af\n   tiden\, også hvis det regner. Du behøv
 er ikke tage spisegrej med. OBS:\n   Troppen og junior sover i shelter - m
 edbring derfor nødvendigt grej til\n   det. Se Thorolfs hjemmeside for en
  pakkeliste og husk at pakke i én\n   taske. \n   \n * Hvis du har aller
 gier\, tager medicin eller lign.\, så sig det til din\n   leder før ture
 n.\n   \n * HUSK: Du skal medbringe en madpakke og drikkedunk til fredag a
 ften. Den\n   spiser vi sammen på Gurredam\n   \n * \n\nFristen for tilme
 lding er fredag d. 31.10. \n\nVi glæder os til tur sammen med Thorolf:-)
  \n\n\nSpejderhilsen fra lederne\n\n\n
URL:https://www.thorolf.dk/begivenhed/thorolf-gruppetur-2025
DTSTART:20251107T160000Z
DTEND:20251109T120000Z
LOCATION:Thorolf - spejderne på Islands Brygge\, Artillerivej 67\, 2300 K
 øbenhavn S
END:VEVENT
BEGIN:VEVENT
UID:gruppeweb.dk:2115:event:1318
DTSTAMP:20260423T110849Z
LAST-MODIFIED:20251002T060152Z
SUMMARY:Sorøspejderne låner hytten
DESCRIPTION:Til tur. \n\n
URL:https://www.thorolf.dk/begivenhed/soroespejderne-laaner-hytten
DTSTART;VALUE=DATE:20251212
DTEND;VALUE=DATE:20251215
LOCATION:Thorolf - spejderne på Islands Brygge\, Artillerivej 67\, 2300 K
 øbenhavn S
END:VEVENT
BEGIN:VEVENT
UID:gruppeweb.dk:2115:event:1334
DTSTAMP:20260423T110849Z
LAST-MODIFIED:20260220T213604Z
SUMMARY:Arbejdsdag i Thorolf
DESCRIPTION:Kære spejdere og forældre\n\n>>Søndag den 15/3 er der arbej
 dsdag i spejderhytten og på grunden ved  \n>>hytten.\n>>Det er vores st
 ore forventning og forhåbning at du/i kommer og giver et  \n>>nap med at 
 rydde op og sætte lidt i stand. Det er en stor hjælp og  \n>>motivation 
 for os ledere at det hele lige får et løft så vi får endnu  \n>>bedre 
 rammer at lave vores spejderarbejde i\, så prioriter lidt tid til os  \n>
 >så får I en masse godt tilbage til jeres børn. \n>>Der vil være muli
 ghed for at arbejde med fra kl. 10-16\, man er velkommen i  \n>>de timer m
 an nu kan afse. Det plejer at være hyggeligt at arbejde lidt  \n>>sammen.
 \n>>Opgaverne er bl.a.: Indvendig maling af vores nyistandsatte hytte\, 
  \n>>kørsel til genbrugspladsen\, oprydning i skurene og på grunden\,  \
 n>>beskæring\, mindre reparationsarbejder. Har du en forbedring du syntes
  du  \n>>vil lave er du velkommen til at byde ind. Tag gerne en værktøjs
 kasse og  \n>>en bil med krog med hvis du har sådan en.\n>>Vi håber at s
 e rigtig mange af jer!\n>>\n
URL:https://www.thorolf.dk/begivenhed/arbejdsdag-i-thorolf
DTSTART:20260315T090000Z
DTEND:20260315T150000Z
LOCATION:Thorolf - spejderne på Islands Brygge\, Artillerivej 67\, 2300 K
 øbenhavn S
END:VEVENT
BEGIN:VEVENT
UID:gruppeweb.dk:2115:event:1342
DTSTAMP:20260423T110849Z
LAST-MODIFIED:20260326T163151Z
SUMMARY:Nanna låner hytten
DESCRIPTION:\n
URL:https://www.thorolf.dk/begivenhed/nanna-laaner-hytten-0
DTSTART:20260422T152400Z
DTEND:20260422T152400Z
LOCATION:Thorolf - spejderne på Islands Brygge\, Artillerivej 67\, 2300 K
 øbenhavn S
END:VEVENT
BEGIN:VEVENT
UID:gruppeweb.dk:2115:event:1344
DTSTAMP:20260423T110849Z
LAST-MODIFIED:20260327T091206Z
SUMMARY:Pandaløb minispejder 2026
DESCRIPTION:Kom med til Pandaløb hvor vi dyster mod andre minispejder i Am
 ager division  \nSøndag 26 april.\n\nVi ses kl 9.30 ved indgangen til Kas
 trupfortet fra Svend Vonveds vej.  \nAfhentning ca 15.30 samme sted. Hvis 
 vi ikke er færdige (nogle gange  \ntrækker prisceremonien ud) så bare v
 ent ved indgangen.\n\nPakning: Madpakke og drikkedunk\, pakket i rygsæk s
 å spejderen selv kan  \nbære det hele dagen. Tøj og sko efter vejr. Vi 
 er ude hele dagen\, uanset  \nvejr så sørg for at spejderen har tøj til
  at holde sig tør og varm.\n\nHusk uniform og spejdertørklæde.\n\nVi gl
 æder os til at vise de andre grupper i Amager division alt det vi har  \n
 lært om førstehjælp\, knob madlavning mv.\n\nObs! Sidste tilmeldningsda
 g er 7 april\n\nHilsen minilederne\n\n
URL:https://www.thorolf.dk/begivenhed/pandaloeb-minispejder-2026
DTSTART:20260426T073000Z
DTEND:20260426T133000Z
LOCATION:Kastrupfortet\, Svend Vonveds Vej 17\, 2300 København S
END:VEVENT
BEGIN:VEVENT
UID:gruppeweb.dk:2115:event:1350
DTSTAMP:20260423T110849Z
LAST-MODIFIED:20260409T090036Z
SUMMARY:Pandaløb minispejder 2026 (kopi)
DESCRIPTION:Kom med til Pandaløb hvor vi dyster mod andre minispejder i Am
 ager division  \nSøndag 26 april.\n\nVi ses kl 9.30 ved indgangen til Kas
 trupfortet fra Svend Vonveds vej.  \nAfhentning ca 15.30 samme sted. Hvis 
 vi ikke er færdige (nogle gange  \ntrækker prisceremonien ud) så bare v
 ent ved indgangen.\n\nPakning: Madpakke og drikkedunk\, pakket i rygsæk s
 å spejderen selv kan  \nbære det hele dagen. Tøj og sko efter vejr. Vi 
 er ude hele dagen\, uanset  \nvejr så sørg for at spejderen har tøj til
  at holde sig tør og varm.\n\nHusk uniform og spejdertørklæde.\n\nVi gl
 æder os til at vise de andre grupper i Amager division alt det vi har  \n
 lært om førstehjælp\, knob madlavning mv.\n\nObs! Sidste tilmeldningsda
 g er 7 april\n\nHilsen minilederne\n\n
URL:https://www.thorolf.dk/begivenhed/pandaloeb-minispejder-2026-kopi
DTSTART:20260426T073000Z
DTEND:20260426T133000Z
LOCATION:Kastrupfortet\, Svend Vonveds Vej 17\, 2300 København S
END:VEVENT
BEGIN:VEVENT
UID:gruppeweb.dk:2115:event:1343
DTSTAMP:20260423T110849Z
LAST-MODIFIED:20260328T092457Z
SUMMARY:Divisionsturnering Mini 2026
DESCRIPTION:.... 🌟 Tilmelding til Divisionsturnering for Minispejder 202
 6\n\nSå nærmer vi os *divisionsturneringen*! En hel weekend fyldt med le
 g\, sjove  \nspejderaktiviteter\, bål og masser af hygge med spejdere fra
  hele divisionen.  \nDivisionsturneringen er for alle spejdergrene\, så d
 er kommer både Thorolfs  \negne mikro\, mini\, junior og tropspejder samt
  fra andre spejdergrupper på  \nAmager. Vi dyster mod de andre grupper\, 
 og i år har mini i Thorolf pokalen i  \npionerarbejde at forsvare. \n\nH
 vis man skal med på sommerlejr vil vi starkt anbefale at man følger med 
  \nfor at øve sig i at sove ude\, gå med oppakning og være med andre sp
 ejder.\n\n*📅 Hvornår:*\nFra *fredag d. 29. maj* til *søndag d. 31. ma
 j 2026*\n\n*🚌 Transport:*\n\n * *Afgang:* Fredag d. 29. maj vi mødes k
 l. *17:30* på *Tårnby Station*\n   \n * Vi kører samlet i *bus til H
 øbjerghus*\n   \n * *Hjemkomst:* Søndag d. 31. maj ca. kl. *15:00*\, ogs
 å ved *Tårnby\n   Station*\n   \n\n*🎒 Hvad skal man have med?*\n\n * 
 En god rygsæk pakket med weekendgrej (tøj\, sovepose\, liggeunderlag\,\n
    regntøj\, madgrej osv.). Spejderen skal selv kunne bære sin oppakning
 \n   helt op til en kilometer.\n   \n * Spejderuniform og tørklæde\n   \
 n * *Madpakke til fredag aften*\n   \n * Drikkedunk\n   \n * Et kæmpe smi
 l og lyst til eventyr!\n   \n * Komplett pakkeliste for en weekend finder 
 du her [1].\n   \n\n✅ *Husk*\n\n * Vi sover i telt\, så sørg for at sp
 ejderen har noget varmt at sove i.\n   \n * Vi er ude hele weekenden så t
 øj og sko efter vejr. Pak gerne en ekstra\n   trøje og overtøj der kan 
 tåle regn.\n   \n * Vi spiser først madpakken når vi kommer frem\, så 
 sørg for at spejderen\n   har spist noget før vi tager afsted\n   \n * H
 vis spejderen bliver køresyg giv gerne en opkastpose med\n   \n\nVi glæd
 er os til en *sjov og uforglemmelig weekend* i spejdernes tegn – og  \nv
 i håber selvfølgelig\, *du skal med!*\n\nSidste tilmeldning er *6 maj.*\
 n\n\n[1] https://www.thorolf.dk/files/2019-09/Pakkeliste - generel - til e
 n weekend.pdf\n
URL:https://www.thorolf.dk/begivenhed/divisionsturnering-mini-2026
DTSTART:20260529T153000Z
DTEND:20260531T130000Z
LOCATION:Høbjerghus\, Høbjerhegn\, 3200 helsinge
END:VEVENT
BEGIN:VEVENT
UID:gruppeweb.dk:2115:event:1330
DTSTAMP:20260423T110849Z
LAST-MODIFIED:20260306T113711Z
SUMMARY:Spejdernes Lejr 2026 - tilmelding for alle
DESCRIPTION:I sommeren 2026 samles 30.000 spejdere fra hele Danmark og verd
 en til  \nSpejdernes Lejr. Det er Nordens største spejderlejr.\n\n\n\nSpe
 jdernes Lejr foregår fra 18. til 26. juli\n2026 i Hedeland Naturpark. Det
  er otte dage fulde af sjove aktiviteter\, nye\nvenskaber\, store oplevels
 er og masser af spejderliv sammen med dem du kender\nfra gruppen\, men med
  rig mulighed for at møde spejdere på tværs af korps  \nfra\nresten af 
 Danmark og hele verden.\n\n\n\nVi fra Thorolf skal\nselvfølgelig også me
 d\, og vi håber\, at DU vil være en del af oplevelsen!\n\n\n\n*Hvorfor s
 kal du med på Spejdernes\nLejr 2026?*\n\n\n\nSpejdernes Lejr er en lidt s
 tørre oplevelse\,\nend du er vant til fra gruppeture og centerlejre. Lejr
 en foregår hvert  \nfjerde\når forskellige steder i Danmark. Hvis du tag
 er med på Spejdernes Lejr 2026  \nfår\ndu:**\n\n\n\n•         
 En\nlejr fyldt med aktiviteter\, udfordringer og oplevelser.\n\n\n\n• 
         Et\nunikt fællesskab med spejdere fra hele landet (og rest
 en af verden).\n\n\n\n•         Oplevelsen\naf en spejderby\, hv
 or 30.000 af børn\, unge og voksne bor\, leger\, lærer og  \narbejder\ns
 ammen.\n\n\n\n\n•         Minder for livet\nDu kan læse meget m
 ere på https://spejderneslejr.dk/ [1]\n\nPraktik: \n\nDenne tilmelding 
 er bindende og udgør den første delbetaling for dig som  \nspejder. Den 
 endelige betaling fastsættes når vi kender antallet af  \ndeltagere (det
  afgør gruppens bidrag pr. spejder) Den endelige pris vil  \nvære indivi
 duel for de enkelte grene og afhænger af hvor mange dage grenen  \ndeltag
 er. Du kan umiddelbart forvente\, at den endelige samlede pris bliver  \n
 mellem 1.200-1.500 kr. pr. spejder for deltagelse i hele lejren. Den næs
 te  \ntilmelding kommer i løbet af foråret sammen med den sidste  \nopkr
 ævning. Hvis prisen er en udfordring\, kan Thorolf hjælpe. Kontakt  \nf
 orperson Julia på julia@thorolf.dk. \n\n\nDe forskellige grene deltager 
 i følgende tidsrum (begge dage inkl.): \n\n * Troppen: lørdag d. 18. ju
 li til søndag d. 26. juli\n   \n * Junior: mandag d. 20. juli til søndag
  d. 26. juli\n   \n * Mini: onsdag d. 22. juli til søndag d. 26. juli \n
    \n * Mikro: onsdag d. 22. juli til søndag d. 26. juli\n   \n * Familie
 spejd: fredag d. 24. juli til søndag d. 26. juli\n   \n\n\nVi glæder til
  en skøn Spejdernes Lejr 2026 sammen med Thorolf!\n\nSh fra lederne\n\n\n
 \n[1] https://spejderneslejr.dk/\n
URL:https://www.thorolf.dk/begivenhed/spejdernes-lejr-2026-tilmelding-alle
DTSTART:20260718T060000Z
DTEND:20260726T140000Z
LOCATION:Thorolf - spejderne på Islands Brygge\, Artillerivej 67\, 2300 K
 øbenhavn S
END:VEVENT
END:VCALENDAR
